BEGIN:VCALENDAR
VERSION:2.0
PRODID:-//ChamberMaster//Event Calendar 2.0//EN
METHOD:PUBLISH
X-PUBLISHED-TTL:P1H
REFRESH-INTERVAL:P1H
CALSCALE:GREGORIAN
BEGIN:VTIMEZONE
TZID:America/New_York
BEGIN:DAYLIGHT
RRULE:FREQ=YEARLY;BYMONTH=3;BYDAY=2SU
DTSTART:20070101T000000
TZOFFSETFROM:-0500
TZOFFSETTO:-0400
TZNAME:Eastern Daylight Time
END:DAYLIGHT
BEGIN:STANDARD
RRULE:FREQ=YEARLY;BYMONTH=11;BYDAY=1SU
DTSTART:20070101T000000
TZOFFSETFROM:-0400
TZOFFSETTO:-0500
TZNAME:Eastern Standard Time
END:STANDARD
END:VTIMEZONE
BEGIN:VEVENT
DTSTART;TZID=America/New_York:20260602T120000
DTEND;TZID=America/New_York:20260602T140000
X-MICROSOFT-CDO-ALLDAYEVENT:FALSE
SUMMARY:Wayne County - Leadership Academy
DESCRIPTION:Join us for a FREE 3-part event series designed for small business owners in Wayne County. Each session is 2 hours\, once a month\, packed with practical tools you can use right away.\nSession 1: Leadership Development\nSet clear goals and create a strategic roadmap for success.\nMonday\, April 20 | 12 PM 2 PMSession 2: Strategic Planning\nExplore fresh ideas and develop forward-thinking strategies to grow your business.\nMonday\, May 11 | 12 PM 2 PMSession 3: Innovative Business Practices & Pitch Day\nPut your ideas into action and pitch your business for a chance to shine.\nMonday\, June 8 | 12 PM 2 PM
X-ALT-DESC;FMTTYPE=text/html:<!DOCTYPE html><html data-lt-installed="true"><head><title></title></head><body aria-disabled="false" data-gr-ext-installed="" data-gramm="false" data-lt-tmp-id="lt-453548" data-new-gr-c-s-check-loaded="14.1282.0" data-new-gr-c-s-loaded="14.1282.0" spellcheck="false"><p><span style="font-family: Arial\, Helvetica\, sans-serif\; font-size: 14px\;">Join us for a FREE 3-part event series designed for small business owners in Wayne County. Each session is 2 hours\, once a month\, packed with practical tools you can use right away.</span></p><div style="text-align: left\;"><br></div><hr style="text-align: left\; clear: both\; user-select: none\; break-after: page\;" fr-original-style="text-align: left\;"><div style="font-size: 13.3333px\; line-height: 1.55\; direction: ltr\; letter-spacing: 0.04em\; text-transform: none\; text-align: center\;"><p data-end="266" data-start="131" style="text-align: left\;"><strong data-end="168" data-start="131" fr-original-style="" style="font-weight: 700\;">Session 1: Leadership Development</strong><br data-start="168" data-end="171">Set clear goals and create a strategic roadmap for success.<br data-start="230" data-end="233"><strong data-end="266" data-is-only-node="" data-start="233" fr-original-style="" style="font-weight: 700\;"><em>Monday\, April 20 | 12 PM&ndash\;2 PM</em></strong></p><p data-end="420" data-start="268" style="text-align: left\;"><strong data-end="301" data-start="268" fr-original-style="" style="font-weight: 700\;">Session 2: Strategic Planning</strong><br data-start="301" data-end="304">Explore fresh ideas and develop forward-thinking strategies to grow your business.<br data-start="386" data-end="389"><strong data-end="420" data-is-only-node="" data-start="389" fr-original-style="" style="font-weight: 700\;"><em>Monday\, May 11 | 12 PM&ndash\;2 PM</em></strong></p><p data-end="588" data-is-last-node="" data-is-only-node="" data-start="422" style="text-align: left\;"><strong data-end="478" data-start="422" fr-original-style="" style="font-weight: 700\;">Session 3: Innovative Business Practices &amp\; Pitch Day</strong><br data-start="478" data-end="481">Put your ideas into action and pitch your business for a chance to shine.<br data-start="554" data-end="557"><strong data-end="588" data-is-last-node="" data-is-only-node="" data-start="557" fr-original-style="" style="font-weight: 700\;"><em>Monday\, June 8 | 12 PM&ndash\;2 PM</em></strong></p></div></body></html>
LOCATION:220 W Liberty St\, Wooster\, OH 44691
UID:e.3879.1442181
SEQUENCE:3
DTSTAMP:20260420T164711Z
URL:https://members.starkminoritybusiness.org/events/Details/wayne-county-leadership-academy-1708035?sourceTypeId=Hub
END:VEVENT
END:VCALENDAR
