BEGIN:VCALENDAR
VERSION:2.0
PRODID:-//ChamberMaster//Event Calendar 2.0//EN
METHOD:PUBLISH
X-PUBLISHED-TTL:P1H
REFRESH-INTERVAL:P1H
CALSCALE:GREGORIAN
BEGIN:VTIMEZONE
TZID:America/New_York
BEGIN:DAYLIGHT
RRULE:FREQ=YEARLY;BYMONTH=3;BYDAY=2SU
DTSTART:20070101T000000
TZOFFSETFROM:-0500
TZOFFSETTO:-0400
TZNAME:Eastern Daylight Time
END:DAYLIGHT
BEGIN:STANDARD
RRULE:FREQ=YEARLY;BYMONTH=11;BYDAY=1SU
DTSTART:20070101T000000
TZOFFSETFROM:-0400
TZOFFSETTO:-0500
TZNAME:Eastern Standard Time
END:STANDARD
END:VTIMEZONE
BEGIN:VEVENT
DTSTART;TZID=America/New_York:20260423T120000
DTEND;TZID=America/New_York:20260423T140000
X-MICROSOFT-CDO-ALLDAYEVENT:FALSE
SUMMARY:Tuscarawas County - Leadership Academy
DESCRIPTION:Join us for a dynamic three-part series designed to build confidence\, sharpen your vision\, and strengthen your leadership skills.Session 1: Leadership Development\nSet clear goals and create a strategic roadmap for success.\nThursday\, April 23 | 12 PM 2 PMSession 2: Strategic Planning\nExplore fresh ideas and develop forward-thinking strategies to grow your business.\nMonday\, May 11 | 12 PM 2 PMSession 3: Innovative Business Practices & Pitch Day\nPut your ideas into action and pitch your business for a chance to shine.\nMonday\, June 8 | 12 PM 2 PM
X-ALT-DESC;FMTTYPE=text/html:<!DOCTYPE html><html data-lt-installed="true"><head><title></title></head><body aria-disabled="false" data-gr-ext-installed="" data-gramm="false" data-lt-tmp-id="lt-941675" data-new-gr-c-s-check-loaded="14.1282.0" data-new-gr-c-s-loaded="14.1282.0" spellcheck="false"><p data-end="129" data-start="0">Join us for a dynamic three-part series designed to build confidence\, sharpen your vision\, and strengthen your leadership skills.</p><p data-end="268" data-start="131"><strong data-end="168" data-start="131" fr-original-style="" style="font-weight: 700\;">Session 1: Leadership Development</strong><br data-start="168" data-end="171">Set clear goals and create a strategic roadmap for success.<br data-start="230" data-end="233"><strong data-end="268" data-is-only-node="" data-start="233" fr-original-style="" style="font-weight: 700\;">Thursday\, April 23 | 12 PM&ndash\;2 PM</strong></p><p data-end="422" data-start="270"><strong data-end="303" data-start="270" fr-original-style="" style="font-weight: 700\;">Session 2: Strategic Planning</strong><br data-start="303" data-end="306">Explore fresh ideas and develop forward-thinking strategies to grow your business.<br data-start="388" data-end="391"><strong data-end="422" data-is-only-node="" data-start="391" fr-original-style="" style="font-weight: 700\;">Monday\, May 11 | 12 PM&ndash\;2 PM</strong></p><p data-end="590" data-is-last-node="" data-is-only-node="" data-start="424"><strong data-end="480" data-start="424" fr-original-style="" style="font-weight: 700\;">Session 3: Innovative Business Practices &amp\; Pitch Day</strong><br data-start="480" data-end="483">Put your ideas into action and pitch your business for a chance to shine.<br data-start="556" data-end="559"><strong data-end="590" data-is-last-node="" data-is-only-node="" data-start="559" fr-original-style="" style="font-weight: 700\;">Monday\, June 8 | 12 PM&ndash\;2 PM</strong></p></body></html>
LOCATION:121 Fair Avenue NW New Philadelphia\, OH 44663
UID:e.3879.1442349
SEQUENCE:3
DTSTAMP:20260420T164441Z
URL:https://members.starkminoritybusiness.org/events/Details/tuscarawas-county-leadership-academy-1708237?sourceTypeId=Hub
END:VEVENT
END:VCALENDAR
